BEGIN:VCALENDAR
VERSION:2.0
PRODID:-//85.13.164.100//NONSGML kigkonsult.se iCalcreator 2.20//
CALSCALE:GREGORIAN
METHOD:PUBLISH
X-WR-TIMEZONE:Europe/Berlin
BEGIN:VEVENT
UID:event1411@MUV
DTSTAMP:20260422T234829Z
CATEGORIES:Oldtimertreffen
DESCRIPTION:Classic Expo Salzburg - Internationale Oldtimermesse 2021\nKate
 gorie: Oldtimertreffen\nICS-Link: https://www.muvcom.de/index.php?option=c
 om_jem&view=event&id=1411:classic-expo-salzburg-internationale-oldtimermes
 se-2021\n
DTSTART;TZID=Europe/Berlin:20211015T090000
DTEND;TZID=Europe/Berlin:20211017T170000
LOCATION:Messezentrum Salzburg\,Am Messezentrum 1\,5020 Salzburg
SUMMARY:Classic Expo Salzburg - Internationale Oldtimermesse 2021
URL:https://www.muvcom.de/index.php?option=com_jem&view=event&id=1411:class
 ic-expo-salzburg-internationale-oldtimermesse-2021
END:VEVENT
END:VCALENDAR