BEGIN:VCALENDAR
VERSION:2.0
PRODID:-//85.13.164.100//NONSGML kigkonsult.se iCalcreator 2.20//
CALSCALE:GREGORIAN
METHOD:PUBLISH
X-WR-TIMEZONE:Europe/Berlin
BEGIN:VEVENT
UID:event1482@MUV
DTSTAMP:20260421T110852Z
CATEGORIES:Konzert
DESCRIPTION:Rockin' Rooster Club 74\nKategorie: Konzert\nICS-Link: https://
 www.muvcom.de/index.php?option=com_jem&view=event&id=1482:rockin-rooster-c
 lub-74\n
DTSTART;TZID=Europe/Berlin:20211211T193000
DTEND;TZID=Europe/Berlin:20211211T235900
LOCATION:Rockin' Rooster Club e.V. Haan\,Dieselstraße 5\,42781 Haan
SUMMARY:Rockin' Rooster Club 74
URL:https://www.muvcom.de/index.php?option=com_jem&view=event&id=1482:rocki
 n-rooster-club-74
END:VEVENT
END:VCALENDAR