BEGIN:VCALENDAR
VERSION:2.0
PRODID:-//85.13.164.100//NONSGML kigkonsult.se iCalcreator 2.20//
CALSCALE:GREGORIAN
METHOD:PUBLISH
X-WR-TIMEZONE:Europe/Berlin
BEGIN:VEVENT
UID:event1141@MUV
DTSTAMP:20260422T010127Z
CATEGORIES:Messe/Ausstellung\, Hochzeitsmesse
DESCRIPTION:Marry Me - Die besondere Hochzeitsmesse\nKategorie: Messe/Ausst
 ellung\, Hochzeitsmesse\nICS-Link: https://www.muvcom.de/index.php?option=
 com_jem&view=event&id=1141:marry-me-die-besondere-hochzeitsmesse\n
DTSTART;TZID=Europe/Berlin:20181117T130000
DTEND;TZID=Europe/Berlin:20181118T170000
LOCATION:Restaurant und Weinkeller Von-Busch-Hof Freinsheim\,Von-Buschhof 5
 \,67251 Freinsheim
SUMMARY:Marry Me - Die besondere Hochzeitsmesse
URL:https://www.muvcom.de/index.php?option=com_jem&view=event&id=1141:marry
 -me-die-besondere-hochzeitsmesse
END:VEVENT
END:VCALENDAR