BEGIN:VCALENDAR
VERSION:2.0
PRODID:-//85.13.164.100//NONSGML kigkonsult.se iCalcreator 2.20//
CALSCALE:GREGORIAN
METHOD:PUBLISH
X-WR-TIMEZONE:Europe/Berlin
BEGIN:VEVENT
UID:event496@MUV
DTSTAMP:20260420T101415Z
CATEGORIES:Party\, Fasnacht
DESCRIPTION:Hefelochblätzer Grammy Party\nKategorie: Party\, Fasnacht\nICS-
 Link: https://www.muvcom.de/index.php?option=com_jem&view=event&id=496:bla
 etzer-grammy-party\n
DTSTART;TZID=Europe/Berlin:20170114T141100
DTEND;TZID=Europe/Berlin:20170115T030000
LOCATION:Feldberghalle Altglashütten\,Bärentaler Straße 30\,79868 Feldberg 
 (Schwarzwald)
SUMMARY:Hefelochblätzer Grammy Party
URL:https://www.muvcom.de/index.php?option=com_jem&view=event&id=496:blaetz
 er-grammy-party
END:VEVENT
END:VCALENDAR