BEGIN:VCALENDAR
VERSION:2.0
PRODID:-//85.13.164.100//NONSGML kigkonsult.se iCalcreator 2.20//
CALSCALE:GREGORIAN
METHOD:PUBLISH
X-WR-TIMEZONE:Europe/Berlin
BEGIN:VEVENT
UID:event819@MUV
DTSTAMP:20260421T085209Z
CATEGORIES:Party
DESCRIPTION:Open Air mit RoseWood im Kiss Hechingen\nKategorie: Party\nICS-
 Link: https://www.muvcom.de/index.php?option=com_jem&view=event&id=819:ope
 n-air-mit-rosewood-im-kiss-hechingen\n
DTSTART;VALUE=DATE:20170819
DTEND;VALUE=DATE:20170820
LOCATION:Rock Cafe Kiss Hechingen\,Lotzenäcker 35\,72379 Hechingen
SUMMARY:Open Air mit RoseWood im Kiss Hechingen
URL:https://www.muvcom.de/index.php?option=com_jem&view=event&id=819:open-a
 ir-mit-rosewood-im-kiss-hechingen
END:VEVENT
END:VCALENDAR