BEGIN:VCALENDAR
VERSION:2.0
PRODID:-//85.13.164.100//NONSGML kigkonsult.se iCalcreator 2.20//
CALSCALE:GREGORIAN
METHOD:PUBLISH
X-WR-TIMEZONE:Europe/Berlin
BEGIN:VEVENT
UID:event381@MUV
DTSTAMP:20260420T103509Z
CATEGORIES:Halloween
DESCRIPTION:Halloween Party\nKategorie: Halloween\nICS-Link: https://www.mu
 vcom.de/index.php?option=com_jem&view=event&id=381:halloween-party\n
DTSTART;TZID=Europe/Berlin:20161028T180000
DTEND;TZID=Europe/Berlin:20161029T010000
LOCATION:Zur Ratsstube Gottmadingen\,Bahnhofstraße 10\,78244 Gottmadingen
SUMMARY:Halloween Party
URL:https://www.muvcom.de/index.php?option=com_jem&view=event&id=381:hallow
 een-party
END:VEVENT
END:VCALENDAR