BEGIN:VCALENDAR
VERSION:2.0
PRODID:-//85.13.164.100//NONSGML kigkonsult.se iCalcreator 2.20//
CALSCALE:GREGORIAN
METHOD:PUBLISH
X-WR-TIMEZONE:Europe/Berlin
BEGIN:VEVENT
UID:event412@MUV
DTSTAMP:20260421T083443Z
CATEGORIES:Halloween
DESCRIPTION:HALLOWEEN PARTY\nKategorie: Halloween\nICS-Link: https://www.mu
 vcom.de/index.php?option=com_jem&view=event&id=412:halloween-party\n
DTSTART;TZID=Europe/Berlin:20161028T200000
DTEND;TZID=Europe/Berlin:20161028T200000
LOCATION:Bunker Volkertshausen\,Steigstraße 5\,78269 Volkertshausen
SUMMARY:HALLOWEEN PARTY
URL:https://www.muvcom.de/index.php?option=com_jem&view=event&id=412:hallow
 een-party
END:VEVENT
END:VCALENDAR