BEGIN:VCALENDAR
VERSION:2.0
PRODID:-//85.13.164.100//NONSGML kigkonsult.se iCalcreator 2.20//
CALSCALE:GREGORIAN
METHOD:PUBLISH
X-WR-TIMEZONE:Europe/Berlin
BEGIN:VEVENT
UID:event1153@MUV
DTSTAMP:20260421T083903Z
CATEGORIES:Workshop
DESCRIPTION:Workshop 'Aufbau Fanbase'\nKategorie: Workshop\nICS-Link: https
 ://www.muvcom.de/index.php?option=com_jem&view=event&id=1153:workshop-aufb
 au-fanbase\n
DTSTART;TZID=Europe/Berlin:20180925T100000
DTEND;TZID=Europe/Berlin:20180925T180000
LOCATION:FMW Frankfurter Musikwerkstatt Frankfurt am Main\,Edisonstraße 8\,
 60388 Frankfurt am Main
SUMMARY:Workshop 'Aufbau Fanbase'
URL:https://www.muvcom.de/index.php?option=com_jem&view=event&id=1153:works
 hop-aufbau-fanbase
END:VEVENT
END:VCALENDAR