BEGIN:VCALENDAR
VERSION:2.0
PRODID:-//85.13.164.100//NONSGML kigkonsult.se iCalcreator 2.20//
CALSCALE:GREGORIAN
METHOD:PUBLISH
X-WR-TIMEZONE:Europe/Berlin
BEGIN:VEVENT
UID:event211@MUV
DTSTAMP:20260423T093540Z
CATEGORIES:Workshop
DESCRIPTION:Mischpult Workshop\nKategorie: Workshop\nICS-Link: https://www.
 muvcom.de/index.php?option=com_jem&view=event&id=211:mischpult-workshop\n
DTSTART;TZID=Europe/Berlin:20160626T140000
DTEND;TZID=Europe/Berlin:20160626T140000
LOCATION:Musikschule Learning!Music\,Königsheide 59\,44536 Lünen
SUMMARY:Mischpult Workshop
URL:https://www.muvcom.de/index.php?option=com_jem&view=event&id=211:mischp
 ult-workshop
END:VEVENT
END:VCALENDAR