BEGIN:VCALENDAR
VERSION:2.0
PRODID:-//85.13.164.100//NONSGML kigkonsult.se iCalcreator 2.20//
CALSCALE:GREGORIAN
METHOD:PUBLISH
X-WR-TIMEZONE:Europe/Berlin
BEGIN:VEVENT
UID:event387@MUV
DTSTAMP:20260421T083617Z
CATEGORIES:Workshop
DESCRIPTION:Popgesang I Basics-Workshop mit Anke Beuth\nKategorie: Workshop
 \nICS-Link: https://www.muvcom.de/index.php?option=com_jem&view=event&id=3
 87:popgesang-i-basics-workshop-mit-anke-beuth\n
DTSTART;TZID=Europe/Berlin:20161023T110000
DTEND;TZID=Europe/Berlin:20161023T160000
LOCATION:Jugendzentrum Mergener Hof Trier\,Rindertanzstraße 4\,54290 Trier
SUMMARY:Popgesang I Basics-Workshop mit Anke Beuth
URL:https://www.muvcom.de/index.php?option=com_jem&view=event&id=387:popges
 ang-i-basics-workshop-mit-anke-beuth
END:VEVENT
END:VCALENDAR