BEGIN:VCALENDAR
VERSION:2.0
PRODID:-//85.13.164.100//NONSGML kigkonsult.se iCalcreator 2.20//
CALSCALE:GREGORIAN
METHOD:PUBLISH
X-WR-TIMEZONE:Europe/Berlin
BEGIN:VEVENT
UID:event391@MUV
DTSTAMP:20260423T080323Z
CATEGORIES:Workshop
DESCRIPTION:Gitarren Solo 2 Workshop\nKategorie: Workshop\nICS-Link: https:
 //www.muvcom.de/index.php?option=com_jem&view=event&id=391:gitarren-solo-2
 -workshop\n
DTSTART;TZID=Europe/Berlin:20161113T140000
DTEND;TZID=Europe/Berlin:20161113T190000
LOCATION:Musikschule Learning!Music\,Königsheide 59\,44536 Lünen
SUMMARY:Gitarren Solo 2 Workshop
URL:https://www.muvcom.de/index.php?option=com_jem&view=event&id=391:gitarr
 en-solo-2-workshop
END:VEVENT
END:VCALENDAR