BEGIN:VCALENDAR
VERSION:2.0
PRODID:-//85.13.164.100//NONSGML kigkonsult.se iCalcreator 2.20//
CALSCALE:GREGORIAN
METHOD:PUBLISH
X-WR-TIMEZONE:Europe/Berlin
BEGIN:VEVENT
UID:event468@MUV
DTSTAMP:20260423T080332Z
CATEGORIES:Workshop
DESCRIPTION:Einführung in die Tango Musik mit Roman Gomez\nKategorie: Works
 hop\nICS-Link: https://www.muvcom.de/index.php?option=com_jem&view=event&i
 d=468:einfuehrung-in-die-tango-musik-mit-roman-gomez\n
DTSTART;TZID=Europe/Berlin:20161204T150000
DTEND;TZID=Europe/Berlin:20161204T170000
LOCATION:Studio - A Voce Piena Zürich\,Ankengasse 5\,8001 Zürich
SUMMARY:Einführung in die Tango Musik mit Roman Gomez
URL:https://www.muvcom.de/index.php?option=com_jem&view=event&id=468:einfue
 hrung-in-die-tango-musik-mit-roman-gomez
END:VEVENT
END:VCALENDAR