BEGIN:VCALENDAR
VERSION:2.0
PRODID:-//85.13.164.100//NONSGML kigkonsult.se iCalcreator 2.20//
CALSCALE:GREGORIAN
METHOD:PUBLISH
X-WR-TIMEZONE:Europe/Berlin
BEGIN:VEVENT
UID:event487@MUV
DTSTAMP:20260421T083640Z
CATEGORIES:Workshop
DESCRIPTION:Popgesang I Basics-Workshops mit Anke Beuth\nKategorie: Worksho
 p\nICS-Link: https://www.muvcom.de/index.php?option=com_jem&view=event&id=
 487:popgesang-i-basics-workshops-mit-anke-beuth\n
DTSTART;TZID=Europe/Berlin:20161126T110000
DTEND;TZID=Europe/Berlin:20161126T160000
LOCATION:Jugendzentrum Mergener Hof Trier\,Rindertanzstraße 4\,54290 Trier
SUMMARY:Popgesang I Basics-Workshops mit Anke Beuth
URL:https://www.muvcom.de/index.php?option=com_jem&view=event&id=487:popges
 ang-i-basics-workshops-mit-anke-beuth
END:VEVENT
END:VCALENDAR