BEGIN:VCALENDAR
VERSION:2.0
PRODID:-//85.13.164.100//NONSGML kigkonsult.se iCalcreator 2.20//
CALSCALE:GREGORIAN
METHOD:PUBLISH
X-WR-TIMEZONE:Europe/Berlin
BEGIN:VEVENT
UID:event507@MUV
DTSTAMP:20260421T083902Z
CATEGORIES:Workshop
DESCRIPTION:Workshop Westcoast Swing tune your basics\nKategorie: Workshop
 \nICS-Link: https://www.muvcom.de/index.php?option=com_jem&view=event&id=5
 07:workshop-westcoast-swing-tune-your-basics\n
DTSTART;TZID=Europe/Berlin:20161213T190000
DTEND;TZID=Europe/Berlin:20161213T220000
LOCATION:Tanzschule Vögtler\,Güttinger Straße 19\,78315 Radolfzell
SUMMARY:Workshop Westcoast Swing tune your basics
URL:https://www.muvcom.de/index.php?option=com_jem&view=event&id=507:worksh
 op-westcoast-swing-tune-your-basics
END:VEVENT
END:VCALENDAR