BEGIN:VCALENDAR
VERSION:2.0
PRODID:-//85.13.164.100//NONSGML kigkonsult.se iCalcreator 2.20//
CALSCALE:GREGORIAN
METHOD:PUBLISH
X-WR-TIMEZONE:Europe/Berlin
BEGIN:VEVENT
UID:event643@MUV
DTSTAMP:20260421T084042Z
CATEGORIES:Workshop
DESCRIPTION:Fingerstyle & More\nKategorie: Workshop\nICS-Link: https://www.
 muvcom.de/index.php?option=com_jem&view=event&id=643:gitarrenworkshop-mit-
 urlaubsfeeling-inkl-2-uen-vp\n
DTSTART;TZID=Europe/Berlin:20170630T180000
DTEND;TZID=Europe/Berlin:20170702T130000
LOCATION:Haus Neuglück Königswinter-Bennerscheid\,Neuglückstraße 37\,53639 
 Königswinter-Bennerscheid
SUMMARY:Fingerstyle & More
URL:https://www.muvcom.de/index.php?option=com_jem&view=event&id=643:gitarr
 enworkshop-mit-urlaubsfeeling-inkl-2-uen-vp
END:VEVENT
END:VCALENDAR