BEGIN:VCALENDAR
VERSION:2.0
PRODID:-//85.13.164.100//NONSGML kigkonsult.se iCalcreator 2.20//
CALSCALE:GREGORIAN
METHOD:PUBLISH
X-WR-TIMEZONE:Europe/Berlin
BEGIN:VEVENT
UID:event67@MUV
DTSTAMP:20260423T093542Z
CATEGORIES:Workshop
DESCRIPTION:Westcoast Swing Workshop\nKategorie: Workshop\nICS-Link: https:
 //www.muvcom.de/index.php?option=com_jem&view=event&id=67:westcoast-swing-
 workshop\n
DTSTART;TZID=Europe/Berlin:20130501T110000
DTEND;TZID=Europe/Berlin:20130501T170000
LOCATION:Tanzschule Vögtler\,Güttinger Straße 19\,78315 Radolfzell
SUMMARY:Westcoast Swing Workshop
URL:https://www.muvcom.de/index.php?option=com_jem&view=event&id=67:westcoa
 st-swing-workshop
END:VEVENT
END:VCALENDAR