BEGIN:VCALENDAR
VERSION:2.0
PRODID:-//85.13.164.100//NONSGML kigkonsult.se iCalcreator 2.20//
CALSCALE:GREGORIAN
METHOD:PUBLISH
X-WR-TIMEZONE:Europe/Berlin
BEGIN:VEVENT
UID:event751@MUV
DTSTAMP:20260421T130834Z
CATEGORIES:Workshop
DESCRIPTION:Popgesang mit Sophie Grobler\nKategorie: Workshop\nICS-Link: ht
 tps://www.muvcom.de/index.php?option=com_jem&view=event&id=751:popgesang-m
 it-sophie-grobler\n
DTSTART;TZID=Europe/Berlin:20170923T090000
DTEND;TZID=Europe/Berlin:20170924T130000
LOCATION:Thüringer Landesmusikakademie Sondershausen e.V.\,Lohberg 11\,9970
 6 Sondershausen
SUMMARY:Popgesang mit Sophie Grobler
URL:https://www.muvcom.de/index.php?option=com_jem&view=event&id=751:popges
 ang-mit-sophie-grobler
END:VEVENT
END:VCALENDAR