BEGIN:VCALENDAR
VERSION:2.0
PRODID:-//85.13.164.100//NONSGML kigkonsult.se iCalcreator 2.20//
CALSCALE:GREGORIAN
METHOD:PUBLISH
X-WR-TIMEZONE:Europe/Berlin
BEGIN:VEVENT
UID:event760@MUV
DTSTAMP:20260421T083653Z
CATEGORIES:Workshop
DESCRIPTION:Workshop 2-level-stroke\nKategorie: Workshop\nICS-Link: https:/
 /www.muvcom.de/index.php?option=com_jem&view=event&id=760:workshop-2-level
 -stroke\n
DTSTART;TZID=Europe/Berlin:20170924T140000
DTEND;TZID=Europe/Berlin:20170924T183000
LOCATION:Musikschule Learning!Music\,Königsheide 59\,44536 Lünen
SUMMARY:Workshop 2-level-stroke
URL:https://www.muvcom.de/index.php?option=com_jem&view=event&id=760:worksh
 op-2-level-stroke
END:VEVENT
END:VCALENDAR