BEGIN:VCALENDAR
VERSION:2.0
PRODID:-//85.13.164.100//NONSGML kigkonsult.se iCalcreator 2.20//
CALSCALE:GREGORIAN
METHOD:PUBLISH
X-WR-TIMEZONE:Europe/Berlin
BEGIN:VEVENT
UID:event863@MUV
DTSTAMP:20260421T085231Z
CATEGORIES:Workshop
DESCRIPTION:10. Workshop des CCD\nKategorie: Workshop\nICS-Link: https://ww
 w.muvcom.de/index.php?option=com_jem&view=event&id=863:10-workshop-des-ccd
 \n
DTSTART;TZID=Europe/Berlin:20170826T100000
DTEND;TZID=Europe/Berlin:20170826T180000
LOCATION:Autopark Bihn & Bittmann GmbH Ingelheim am Rhein\,Binger Straße 23
 6\,55218 Ingelheim am Rhein
SUMMARY:10. Workshop des CCD
URL:https://www.muvcom.de/index.php?option=com_jem&view=event&id=863:10-wor
 kshop-des-ccd
END:VEVENT
END:VCALENDAR