BEGIN:VCALENDAR
VERSION:2.0
PRODID:-//85.13.164.100//NONSGML kigkonsult.se iCalcreator 2.20//
CALSCALE:GREGORIAN
METHOD:PUBLISH
X-WR-TIMEZONE:Europe/Berlin
BEGIN:VEVENT
UID:event9@MUV
DTSTAMP:20260421T095711Z
CATEGORIES:Workshop
DESCRIPTION:Discofox Workshop\nKategorie: Workshop\nICS-Link: https://www.m
 uvcom.de/index.php?option=com_jem&view=event&id=9:discofox-workshop\n
DTSTART;TZID=Europe/Berlin:20120630T123000
DTEND;TZID=Europe/Berlin:20120630T150000
LOCATION:Tanzschule Vögtler\,Güttinger Straße 19\,78315 Radolfzell
SUMMARY:Discofox Workshop
URL:https://www.muvcom.de/index.php?option=com_jem&view=event&id=9:discofox
 -workshop
END:VEVENT
END:VCALENDAR